BEGIN:VCALENDAR
VERSION:2.0
PRODID:-//СРО Ассоциация «Промжелдортранс» - ECPv6.15.14//NONSGML v1.0//EN
CALSCALE:GREGORIAN
METHOD:PUBLISH
X-WR-CALNAME:СРО Ассоциация «Промжелдортранс»
X-ORIGINAL-URL:https://associacia-pgdt.ru
X-WR-CALDESC:Мероприятия для СРО Ассоциация «Промжелдортранс»
REFRESH-INTERVAL;VALUE=DURATION:PT1H
X-Robots-Tag:noindex
X-PUBLISHED-TTL:PT1H
BEGIN:VTIMEZONE
TZID:Europe/Moscow
BEGIN:STANDARD
TZOFFSETFROM:+0300
TZOFFSETTO:+0300
TZNAME:MSK
DTSTART:20231231T210000
END:STANDARD
END:VTIMEZONE
BEGIN:VEVENT
DTSTART;VALUE=DATE:20250702
DTEND;VALUE=DATE:20250703
DTSTAMP:20260424T173814
CREATED:20250627T101417Z
LAST-MODIFIED:20250627T101417Z
UID:10000037-1751414400-1751587199@associacia-pgdt.ru
SUMMARY:Конференция «Логистика 360: тренды\, опыт лидеров\, решения» (Санкт-Петербург)
DESCRIPTION:Актуальные проблемы отрасли\, обсуждение решений\, трендов и перспектив\, живое общение и многое другое — на конференции «Логистика 360: тренды\, опыт лидеров\, решения». Не упустите шанс узнать о последних трендах в логистике\, обменяться опытом с коллегами и вдохновиться новыми идеями! Программа уточняется!
URL:https://associacia-pgdt.ru/event-calendar/konferenciya-logistika-360-trendy-opyt-liderov-resheniya-sankt-peterburg/
LOCATION:KOSTAS\, Профессора Ивашенцова\, 2А\, Санкт-Петербург
END:VEVENT
BEGIN:VEVENT
DTSTART;VALUE=DATE:20250702
DTEND;VALUE=DATE:20250704
DTSTAMP:20260424T173814
CREATED:20250627T101647Z
LAST-MODIFIED:20250627T101647Z
UID:10000038-1751414400-1751673599@associacia-pgdt.ru
SUMMARY:Конференция «Умный лом» (Санкт-Петербург)
DESCRIPTION:2–4 июля 2025 года в Санкт-Петербурге состоится уникальная отраслевая SMART-конференция «Умный лом»\, посвященная цифровой трансформации в сфере переработки металлолома. В период белых ночей ведущие эксперты отрасли\, технологические лидеры и представители бизнеса соберутся\, чтобы обсудить революционные изменения в ломозаготовительной отрасли и металлургии. \nКонференция станет площадкой для презентации передовых цифровых решений: от автоматизации приемки и сортировки с применением машинного зрения до внедрения искусственного интеллекта в процессы переработки. Участники узнают\, как современные технологии позволяют сократить затраты на 30%\, повысить доходность на 5% и увеличить производительность труда в 5 раз. Особое внимание будет уделено практическому опыту компаний-лидеров\, таких как «Уни-Блок»\, где уже успешно реализованы принципы «умного предприятия». \nПрограмма мероприятия включает пленарные сессии с участием ключевых спикеров\, вручение наград за инновационные достижения\, а также эксклюзивные экскурсии на высокотехнологичные производственные площадки. Деловая часть дополнена возможностями для нетворкинга: welcome-коктейль и прогулка на корабле по Неве. \nОрганизаторами выступают компания «Уни-Блок» — лидер в переработке и экспорте металлолома с полностью цифровизированными процессами\, и рейтинговое агентство «Русмет». \nКонференция «Умный лом-2025» — это событие для тех\, кто стремится вывести свой бизнес на новый уровень эффективности и стать частью цифрового будущего отрасли.
URL:https://associacia-pgdt.ru/event-calendar/konferenciya-umnyj-lom-sankt-peterburg/
LOCATION:Гранд Отель Мойка 22\, Набережная реки Мойки\, 22\, Санкт-Петербург\, 190000\, Российская Федерация
END:VEVENT
BEGIN:VEVENT
DTSTART;VALUE=DATE:20250708
DTEND;VALUE=DATE:20250710
DTSTAMP:20260424T173814
CREATED:20250627T101807Z
LAST-MODIFIED:20250627T101807Z
UID:10000039-1751932800-1752191999@associacia-pgdt.ru
SUMMARY:Modern Railways 2025 (г. Пекин\, КНР)
DESCRIPTION:Modern Railways – одно из важнейших специализированных международных мероприятий\, которое тематически охватывает все отрасли промышленности\, так или иначе связанные с железными дорогами. За более чем 30 лет выставка зарекомендовала себя как надежная и удобная деловая площадка\, которая ежегодно собирает вместе ведущих мировых производителей\, поставщиков\, дистрибьюторов и других специалистов железнодорожной промышленности.\nВыставка проводится раз в два года при поддержке Министерства коммерции Китайской Народной Республики\, Китайских железных дорог (China State Railway Group) и отраслевых ассоциаций.
URL:https://associacia-pgdt.ru/event-calendar/modern-railways-2025-g-pekin-knr/
END:VEVENT
END:VCALENDAR