BEGIN:VCALENDAR
VERSION:2.0
PRODID:-//СРО Ассоциация «Промжелдортранс» - ECPv6.15.14//NONSGML v1.0//EN
CALSCALE:GREGORIAN
METHOD:PUBLISH
X-ORIGINAL-URL:https://associacia-pgdt.ru
X-WR-CALDESC:Мероприятия для СРО Ассоциация «Промжелдортранс»
REFRESH-INTERVAL;VALUE=DURATION:PT1H
X-Robots-Tag:noindex
X-PUBLISHED-TTL:PT1H
BEGIN:VTIMEZONE
TZID:Europe/Moscow
BEGIN:STANDARD
TZOFFSETFROM:+0300
TZOFFSETTO:+0300
TZNAME:MSK
DTSTART:20231231T210000
END:STANDARD
END:VTIMEZONE
BEGIN:VEVENT
DTSTART;VALUE=DATE:20250220
DTEND;VALUE=DATE:20250220
DTSTAMP:20260424T172458
CREATED:20250130T151332Z
LAST-MODIFIED:20250130T151442Z
UID:10000027-1740009600-1740095999@associacia-pgdt.ru
SUMMARY:Подвижной состав: производство\, эксплуатация и ремонт
DESCRIPTION:В программе:\n\n\n\n\n\n\n\n\n\n\n\n1) Дискуссия\n\n\n\n«Производство подвижного состава: как новым вагонам попасть на сеть?»\n\n\n\n\n\n\n\n\n\n\n\n\n\n2) Дискуссия\n\n\n\n«Ремонт подвижного состава: время стандартизации и внедрения улучшенных комплектующих»
URL:https://associacia-pgdt.ru/event-calendar/podvizhnoj-sostav-proizvodstvo-ekspluataciya-i-remont/
LOCATION:Отель «Золотое кольцо»\, Смоленская улица\, 5\, Москва\, Российская Федерация
END:VEVENT
END:VCALENDAR