BEGIN:VCALENDAR
VERSION:2.0
PRODID:-//СРО Ассоциация «Промжелдортранс» - ECPv6.15.14//NONSGML v1.0//EN
CALSCALE:GREGORIAN
METHOD:PUBLISH
X-ORIGINAL-URL:https://associacia-pgdt.ru
X-WR-CALDESC:Мероприятия для СРО Ассоциация «Промжелдортранс»
REFRESH-INTERVAL;VALUE=DURATION:PT1H
X-Robots-Tag:noindex
X-PUBLISHED-TTL:PT1H
BEGIN:VTIMEZONE
TZID:Europe/Moscow
BEGIN:STANDARD
TZOFFSETFROM:+0300
TZOFFSETTO:+0300
TZNAME:MSK
DTSTART:20231231T210000
END:STANDARD
END:VTIMEZONE
BEGIN:VEVENT
DTSTART;TZID=Europe/Moscow:20250918T050000
DTEND;TZID=Europe/Moscow:20250918T140000
DTSTAMP:20260424T202324
CREATED:20250820T175732Z
LAST-MODIFIED:20250820T175732Z
UID:10000043-1758171600-1758204000@associacia-pgdt.ru
SUMMARY:Конференция «Операторский бизнес: экономика\, качество\, технологии»
DESCRIPTION:
URL:https://associacia-pgdt.ru/event-calendar/konferenciya-operatorskij-biznes-ekonomika-kachestvo-texnologii-2/
LOCATION:Отель «Золотое кольцо»\, Смоленская улица\, 5\, Москва\, Российская Федерация
END:VEVENT
END:VCALENDAR