BEGIN:VCALENDAR
VERSION:2.0
PRODID:-//СРО Ассоциация «Промжелдортранс» - ECPv6.15.14//NONSGML v1.0//EN
CALSCALE:GREGORIAN
METHOD:PUBLISH
X-ORIGINAL-URL:https://associacia-pgdt.ru
X-WR-CALDESC:Мероприятия для СРО Ассоциация «Промжелдортранс»
REFRESH-INTERVAL;VALUE=DURATION:PT1H
X-Robots-Tag:noindex
X-PUBLISHED-TTL:PT1H
BEGIN:VTIMEZONE
TZID:Europe/Moscow
BEGIN:STANDARD
TZOFFSETFROM:+0300
TZOFFSETTO:+0300
TZNAME:MSK
DTSTART:20231231T210000
END:STANDARD
END:VTIMEZONE
BEGIN:VEVENT
DTSTART;VALUE=DATE:20250821
DTEND;VALUE=DATE:20250821
DTSTAMP:20260424T190608
CREATED:20250730T140232Z
LAST-MODIFIED:20250731T124505Z
UID:10000041-1755734400-1755820799@associacia-pgdt.ru
SUMMARY:Семинар «Контейнерные перевозки: логистика\, цены\, риски» (онлайн)
DESCRIPTION:
URL:https://associacia-pgdt.ru/event-calendar/seminar-kontejnernye-perevozki-logistika-ceny-riski-onlajn/
LOCATION:Онлайн-участие
END:VEVENT
END:VCALENDAR