BEGIN:VCALENDAR
VERSION:2.0
PRODID:-//СРО Ассоциация «Промжелдортранс» - ECPv6.15.14//NONSGML v1.0//EN
CALSCALE:GREGORIAN
METHOD:PUBLISH
X-ORIGINAL-URL:https://associacia-pgdt.ru
X-WR-CALDESC:Мероприятия для СРО Ассоциация «Промжелдортранс»
REFRESH-INTERVAL;VALUE=DURATION:PT1H
X-Robots-Tag:noindex
X-PUBLISHED-TTL:PT1H
BEGIN:VTIMEZONE
TZID:Europe/Moscow
BEGIN:STANDARD
TZOFFSETFROM:+0300
TZOFFSETTO:+0300
TZNAME:MSK
DTSTART:20231231T210000
END:STANDARD
END:VTIMEZONE
BEGIN:VEVENT
DTSTART;VALUE=DATE:20250708
DTEND;VALUE=DATE:20250710
DTSTAMP:20260424T175001
CREATED:20250627T101807Z
LAST-MODIFIED:20250627T101807Z
UID:10000039-1751932800-1752191999@associacia-pgdt.ru
SUMMARY:Modern Railways 2025 (г. Пекин\, КНР)
DESCRIPTION:Modern Railways – одно из важнейших специализированных международных мероприятий\, которое тематически охватывает все отрасли промышленности\, так или иначе связанные с железными дорогами. За более чем 30 лет выставка зарекомендовала себя как надежная и удобная деловая площадка\, которая ежегодно собирает вместе ведущих мировых производителей\, поставщиков\, дистрибьюторов и других специалистов железнодорожной промышленности.\nВыставка проводится раз в два года при поддержке Министерства коммерции Китайской Народной Республики\, Китайских железных дорог (China State Railway Group) и отраслевых ассоциаций.
URL:https://associacia-pgdt.ru/event-calendar/modern-railways-2025-g-pekin-knr/
END:VEVENT
END:VCALENDAR