BEGIN:VCALENDAR
VERSION:2.0
PRODID:-//СРО Ассоциация «Промжелдортранс» - ECPv6.15.14//NONSGML v1.0//EN
CALSCALE:GREGORIAN
METHOD:PUBLISH
X-WR-CALNAME:СРО Ассоциация «Промжелдортранс»
X-ORIGINAL-URL:https://associacia-pgdt.ru
X-WR-CALDESC:Мероприятия для СРО Ассоциация «Промжелдортранс»
REFRESH-INTERVAL;VALUE=DURATION:PT1H
X-Robots-Tag:noindex
X-PUBLISHED-TTL:PT1H
BEGIN:VTIMEZONE
TZID:Europe/Moscow
BEGIN:STANDARD
TZOFFSETFROM:+0300
TZOFFSETTO:+0300
TZNAME:MSK
DTSTART:20231231T210000
END:STANDARD
END:VTIMEZONE
BEGIN:VEVENT
DTSTART;VALUE=DATE:20250605
DTEND;VALUE=DATE:20250607
DTSTAMP:20260424T174657
CREATED:20250605T101828Z
LAST-MODIFIED:20250605T101828Z
UID:10000035-1749081600-1749340799@associacia-pgdt.ru
SUMMARY:Конференция «Рынок щебня России 2025»
DESCRIPTION:
URL:https://associacia-pgdt.ru/event-calendar/konferenciya-rynok-shhebnya-rossii-2025/
LOCATION:Отель Continental\, ул. Тверская\, 22\, Москва\, Российская Федерация
END:VEVENT
END:VCALENDAR