BEGIN:VCALENDAR
VERSION:2.0
PRODID:-//СРО Ассоциация «Промжелдортранс» - ECPv6.15.14//NONSGML v1.0//EN
CALSCALE:GREGORIAN
METHOD:PUBLISH
X-ORIGINAL-URL:https://associacia-pgdt.ru
X-WR-CALDESC:Мероприятия для СРО Ассоциация «Промжелдортранс»
REFRESH-INTERVAL;VALUE=DURATION:PT1H
X-Robots-Tag:noindex
X-PUBLISHED-TTL:PT1H
BEGIN:VTIMEZONE
TZID:Europe/Moscow
BEGIN:STANDARD
TZOFFSETFROM:+0300
TZOFFSETTO:+0300
TZNAME:MSK
DTSTART:20231231T210000
END:STANDARD
END:VTIMEZONE
BEGIN:VEVENT
DTSTART;VALUE=DATE:20250528
DTEND;VALUE=DATE:20250528
DTSTAMP:20260424T150636
CREATED:20250513T103341Z
LAST-MODIFIED:20250513T112130Z
UID:10000032-1748390400-1748476799@associacia-pgdt.ru
SUMMARY:Форум «Грузовая панорама: как везти грузы в условиях ограничений»
DESCRIPTION:
URL:https://associacia-pgdt.ru/event-calendar/forum-gruzovaya-panorama-kak-vezti-gruzy-v-usloviyax-ogranichenij/
LOCATION:Отель «Золотое кольцо»\, Смоленская улица\, 5\, Москва\, Российская Федерация
END:VEVENT
END:VCALENDAR