BEGIN:VCALENDAR
VERSION:2.0
PRODID:-//СРО Ассоциация «Промжелдортранс» - ECPv6.15.14//NONSGML v1.0//EN
CALSCALE:GREGORIAN
METHOD:PUBLISH
X-WR-CALNAME:СРО Ассоциация «Промжелдортранс»
X-ORIGINAL-URL:https://associacia-pgdt.ru
X-WR-CALDESC:Мероприятия для СРО Ассоциация «Промжелдортранс»
REFRESH-INTERVAL;VALUE=DURATION:PT1H
X-Robots-Tag:noindex
X-PUBLISHED-TTL:PT1H
BEGIN:VTIMEZONE
TZID:Europe/Moscow
BEGIN:STANDARD
TZOFFSETFROM:+0300
TZOFFSETTO:+0300
TZNAME:MSK
DTSTART:20231231T210000
END:STANDARD
END:VTIMEZONE
BEGIN:VEVENT
DTSTART;TZID=Europe/Moscow:20250318T050000
DTEND;TZID=Europe/Moscow:20250320T140000
DTSTAMP:20260424T172217
CREATED:20250304T210525Z
LAST-MODIFIED:20250304T210606Z
UID:10000030-1742274000-1742479200@associacia-pgdt.ru
SUMMARY:Транспортно-логистический конгресс "ТрансРоссия 2025"
DESCRIPTION:Транспортно-логистический конгресс «ТРАНСРОССИЯ 2025» — это 6 отраслевых конференций только с самой полезной и актуальной информацией для решения ваших бизнес-задач! Тренды и перспективы развития транспортной и логистической отрасли\, лучшие практики\, обмен реальным опытом\, российские и международные спикеры и эксперты.
URL:https://associacia-pgdt.ru/event-calendar/transportno-logisticheskij-kongress-transrossiya-2025/
LOCATION:МВЦ «Крокус Экспо»\, ул. Международная\, д. 16.\, г. Красногорск\, Московская область\, Красногорский район
END:VEVENT
END:VCALENDAR