BEGIN:VCALENDAR
VERSION:2.0
PRODID:-//СРО Ассоциация «Промжелдортранс» - ECPv6.15.14//NONSGML v1.0//EN
CALSCALE:GREGORIAN
METHOD:PUBLISH
X-WR-CALNAME:СРО Ассоциация «Промжелдортранс»
X-ORIGINAL-URL:https://associacia-pgdt.ru
X-WR-CALDESC:Мероприятия для СРО Ассоциация «Промжелдортранс»
REFRESH-INTERVAL;VALUE=DURATION:PT1H
X-Robots-Tag:noindex
X-PUBLISHED-TTL:PT1H
BEGIN:VTIMEZONE
TZID:Europe/Moscow
BEGIN:STANDARD
TZOFFSETFROM:+0300
TZOFFSETTO:+0300
TZNAME:MSK
DTSTART:20221231T210000
END:STANDARD
END:VTIMEZONE
BEGIN:VEVENT
DTSTART;VALUE=DATE:20241113
DTEND;VALUE=DATE:20241113
DTSTAMP:20260422T171838
CREATED:20241014T091439Z
LAST-MODIFIED:20241014T091439Z
UID:10000023-1731456000-1731542399@associacia-pgdt.ru
SUMMARY:Конференция «Формула транспортной безопасности. Закон. Знание. Практика»
DESCRIPTION:
URL:https://associacia-pgdt.ru/event-calendar/konferenciya-formula-transportnoj-bezopasnosti-zakon-znanie-praktika/
LOCATION:Бизнес-отель «АЭРОСТАР»\, Ленинградский проспект\, 37к9\, Москва\, 125167\, Российская Федерация
ATTACH;FMTTYPE=image/png:https://associacia-pgdt.ru/wp-content/uploads/2024/10/w-srednij-1.png
END:VEVENT
END:VCALENDAR