BEGIN:VCALENDAR
VERSION:2.0
PRODID:-//СРО Ассоциация «Промжелдортранс» - ECPv6.15.14//NONSGML v1.0//EN
CALSCALE:GREGORIAN
METHOD:PUBLISH
X-ORIGINAL-URL:https://associacia-pgdt.ru
X-WR-CALDESC:Мероприятия для СРО Ассоциация «Промжелдортранс»
REFRESH-INTERVAL;VALUE=DURATION:PT1H
X-Robots-Tag:noindex
X-PUBLISHED-TTL:PT1H
BEGIN:VTIMEZONE
TZID:Europe/Moscow
BEGIN:STANDARD
TZOFFSETFROM:+0300
TZOFFSETTO:+0300
TZNAME:MSK
DTSTART:20231231T210000
END:STANDARD
END:VTIMEZONE
BEGIN:VEVENT
DTSTART;VALUE=DATE:20251121
DTEND;VALUE=DATE:20251121
DTSTAMP:20260421T130055
CREATED:20251006T104714Z
LAST-MODIFIED:20251006T104714Z
UID:10000052-1763683200-1763769599@associacia-pgdt.ru
SUMMARY:Конференция «Инвестуголь-2025»
DESCRIPTION:
URL:https://associacia-pgdt.ru/event-calendar/konferenciya-investugol-2025/
LOCATION:Отель Continental\, ул. Тверская\, 22\, Москва\, Российская Федерация
END:VEVENT
END:VCALENDAR