BEGIN:VCALENDAR
VERSION:2.0
PRODID:-//СРО Ассоциация «Промжелдортранс» - ECPv6.15.14//NONSGML v1.0//EN
CALSCALE:GREGORIAN
METHOD:PUBLISH
X-WR-CALNAME:СРО Ассоциация «Промжелдортранс»
X-ORIGINAL-URL:https://associacia-pgdt.ru
X-WR-CALDESC:Мероприятия для СРО Ассоциация «Промжелдортранс»
REFRESH-INTERVAL;VALUE=DURATION:PT1H
X-Robots-Tag:noindex
X-PUBLISHED-TTL:PT1H
BEGIN:VTIMEZONE
TZID:Europe/Moscow
BEGIN:STANDARD
TZOFFSETFROM:+0300
TZOFFSETTO:+0300
TZNAME:MSK
DTSTART:20231231T210000
END:STANDARD
END:VTIMEZONE
BEGIN:VEVENT
DTSTART;VALUE=DATE:20251106
DTEND;VALUE=DATE:20251106
DTSTAMP:20260419T173111
CREATED:20251006T104418Z
LAST-MODIFIED:20251006T104418Z
UID:10000050-1762387200-1762473599@associacia-pgdt.ru
SUMMARY:Конференция «Формула транспортной безопасности»
DESCRIPTION:
URL:https://associacia-pgdt.ru/event-calendar/konferenciya-formula-transportnoj-bezopasnosti/
LOCATION:Бизнес-отель «АЭРОСТАР»\, Ленинградский проспект\, 37к9\, Москва\, 125167\, Российская Федерация
END:VEVENT
END:VCALENDAR