BEGIN:VCALENDAR
VERSION:2.0
PRODID:-//СРО Ассоциация «Промжелдортранс» - ECPv6.15.14//NONSGML v1.0//EN
CALSCALE:GREGORIAN
METHOD:PUBLISH
X-WR-CALNAME:СРО Ассоциация «Промжелдортранс»
X-ORIGINAL-URL:https://associacia-pgdt.ru
X-WR-CALDESC:Мероприятия для СРО Ассоциация «Промжелдортранс»
REFRESH-INTERVAL;VALUE=DURATION:PT1H
X-Robots-Tag:noindex
X-PUBLISHED-TTL:PT1H
BEGIN:VTIMEZONE
TZID:Europe/Moscow
BEGIN:STANDARD
TZOFFSETFROM:+0300
TZOFFSETTO:+0300
TZNAME:MSK
DTSTART:20221231T210000
END:STANDARD
END:VTIMEZONE
BEGIN:VEVENT
DTSTART;VALUE=DATE:20240709
DTEND;VALUE=DATE:20240712
DTSTAMP:20260421T125048
CREATED:20240627T161026Z
LAST-MODIFIED:20240628T084301Z
UID:10000013-1720483200-1720828799@associacia-pgdt.ru
SUMMARY:ХVIII МЕЖДУНАРОДНАЯ НАУЧНО-ТЕХНИЧЕСКАЯ КОНФЕРЕНЦИЯ «ПОДВИЖНОЙ СОСТАВ XXI ВЕКА: ИДЕИ\, ТРЕБОВАНИЯ\, ПРОЕКТЫ»‎ (Санкт-Петербург)
DESCRIPTION:Цель конференции – обсуждение новых перспективных идей и технических решений в области создания и эксплуатации подвижного\nсостава железных дорог по следующим направлениям:\n— грузовой подвижной состав (проектирование\, испытания\, ремонт и эксплуатация);\n— пассажирский подвижной состав (проектирование\, испытания\, ремонт и эксплуатация);\n— динамика\, прочность и надежность подвижного состава;\n— общие вопросы\, транспортная политика и экономика.
URL:https://associacia-pgdt.ru/event-calendar/xviii-mezhdunarodnaya-nauchno-texnicheskaya-konferenciya-podvizhnoj-sostav-xxi-veka-idei-trebovaniya-proekty-sankt-peterburg/
LOCATION:ПГУПС\, Московский пр.\, д. 9\, Санкт-Петербург\, Российская Федерация
ATTACH;FMTTYPE=image/jpeg:https://associacia-pgdt.ru/wp-content/uploads/2024/06/pgups.jpg
END:VEVENT
END:VCALENDAR